BEGIN:VCALENDAR
VERSION:2.0
BEGIN:VTIMEZONE
TZID:/freeassociation.sourceforge.net/Europe/Zurich
X-LIC-LOCATION:Europe/Zurich
END:VTIMEZONE
PRODID:mnr.ch
METHOD:PUBLISH
BEGIN:VEVENT
CLASS:PUBLIC
UID:3582
DTSTAMP:20260424T025530
LOCATION:34, Zionshalle, Ringwiesenstrasse 15, 8600, Dübendorf, CH
SUMMARY:Bibel/Gebetsstunde
DESCRIPTION:Samuel Rindlisbacher

DTSTART:20260514T200000
DTEND:20260514T210000
END:VEVENT
END:VCALENDAR