BEGIN:VCALENDAR
VERSION:2.0
BEGIN:VTIMEZONE
TZID:/freeassociation.sourceforge.net/Europe/Zurich
X-LIC-LOCATION:Europe/Zurich
END:VTIMEZONE
PRODID:mnr.ch
METHOD:PUBLISH
BEGIN:VEVENT
CLASS:PUBLIC
UID:3435
DTSTAMP:20260421T095407
LOCATION:34, Zionshalle, Ringwiesenstrasse 15, 8600, Dübendorf, CH
SUMMARY:Israelkonferenz
DESCRIPTION:Erez Soref

DTSTART:20240929T140000
DTEND:20240929T160000
END:VEVENT
END:VCALENDAR