BEGIN:VCALENDAR
VERSION:2.0
BEGIN:VTIMEZONE
TZID:/freeassociation.sourceforge.net/Europe/Zurich
X-LIC-LOCATION:Europe/Zurich
END:VTIMEZONE
PRODID:mnr.ch
METHOD:PUBLISH
BEGIN:VEVENT
CLASS:PUBLIC
UID:2153
DTSTAMP:20260421T085248
LOCATION:34, Zionshalle, Ringwiesenstrasse 15, 8600, Dübendorf, CH
SUMMARY:Osterkonferenz 2023 «Ewigkeit entdecken»
DESCRIPTION:Norbert Lieth

DTSTART:20230407T100000
DTEND:20230407T120000
END:VEVENT
END:VCALENDAR