BEGIN:VCALENDAR
VERSION:2.0
BEGIN:VTIMEZONE
TZID:/freeassociation.sourceforge.net/Europe/Zurich
X-LIC-LOCATION:Europe/Zurich
END:VTIMEZONE
PRODID:mnr.ch
METHOD:PUBLISH
BEGIN:VEVENT
CLASS:PUBLIC
UID:1809
DTSTAMP:20260423T135455
LOCATION:34, Zionshalle, Ringwiesenstrasse 15, 8600, Dübendorf, CH
SUMMARY:Bibel/Gebetsstunde mit Abendmahl
DESCRIPTION:Nathanael Winkler

DTSTART:20241107T200000
DTEND:20241107T210000
END:VEVENT
END:VCALENDAR