BEGIN:VCALENDAR
VERSION:2.0
BEGIN:VTIMEZONE
TZID:/freeassociation.sourceforge.net/Europe/Zurich
X-LIC-LOCATION:Europe/Zurich
END:VTIMEZONE
PRODID:mnr.ch
METHOD:PUBLISH
BEGIN:VEVENT
CLASS:PUBLIC
UID:1804
DTSTAMP:20260422T103353
LOCATION:34, Zionshalle, Ringwiesenstrasse 15, 8600, Dübendorf, CH
SUMMARY:Bibel/Gebetsstunde
DESCRIPTION:André Beitze

DTSTART:20241003T200000
DTEND:20241003T210000
END:VEVENT
END:VCALENDAR