BEGIN:VCALENDAR
VERSION:2.0
BEGIN:VTIMEZONE
TZID:/freeassociation.sourceforge.net/Europe/Zurich
X-LIC-LOCATION:Europe/Zurich
END:VTIMEZONE
PRODID:mnr.ch
METHOD:PUBLISH
BEGIN:VEVENT
CLASS:PUBLIC
UID:1704
DTSTAMP:20260420T083027
LOCATION:34, Zionshalle, Ringwiesenstrasse 15, 8600, Dübendorf, CH
SUMMARY:Gottesdienst Zionshalle
DESCRIPTION:Michael Kotsch

DTSTART:20241013T100000
DTEND:20241013T113000
END:VEVENT
END:VCALENDAR