BEGIN:VCALENDAR
VERSION:2.0
BEGIN:VTIMEZONE
TZID:/freeassociation.sourceforge.net/Europe/Zurich
X-LIC-LOCATION:Europe/Zurich
END:VTIMEZONE
PRODID:mnr.ch
METHOD:PUBLISH
BEGIN:VEVENT
CLASS:PUBLIC
UID:1153
DTSTAMP:20260425T174120
LOCATION:34, Zionshalle, Ringwiesenstrasse 15, 8600, Dübendorf, CH
SUMMARY:Männertag 2023
DESCRIPTION:Nathanael Winkler
Anmeldung notwendig: HIER KLICKEN
DTSTART:20230610T100000
DTEND:20230610T110000
END:VEVENT
END:VCALENDAR