BEGIN:VCALENDAR
VERSION:2.0
BEGIN:VTIMEZONE
TZID:/freeassociation.sourceforge.net/Europe/Zurich
X-LIC-LOCATION:Europe/Zurich
END:VTIMEZONE
PRODID:mnr.ch
METHOD:PUBLISH
BEGIN:VEVENT
CLASS:PUBLIC
UID:1134
DTSTAMP:20260419T145255
LOCATION:34, Zionshalle, Ringwiesenstrasse 15, 8600, Dübendorf, CH
SUMMARY:Bibel/Gebetsstunde
DESCRIPTION:Obed Hanisch

DTSTART:20231005T200000
DTEND:20231005T210000
END:VEVENT
END:VCALENDAR