BEGIN:VCALENDAR
VERSION:2.0
PRODID:mnr.ch
METHOD:PUBLISH
BEGIN:VEVENT
CLASS:PUBLIC
UID:84
DTSTAMP:20260420T090607
LOCATION:34, Zionshalle, Ringwiesenstrasse 15, 8600, Dübendorf, CH
SUMMARY:Gebetsstunde
DESCRIPTION:Norbert Lieth\n
DTSTART:20210610T200000
DTEND:20210610T210000
END:VEVENT
END:VCALENDAR