BEGIN:VCALENDAR
VERSION:2.0
PRODID:mnr.ch
METHOD:PUBLISH
BEGIN:VEVENT
CLASS:PUBLIC
UID:82
DTSTAMP:20260424T213756
LOCATION:34, Zionshalle, Ringwiesenstrasse 15, 8600, Dübendorf, CH
SUMMARY:Gebetsstunde
DESCRIPTION:Norbert Lieth\n
DTSTART:20210527T200000
DTEND:20210527T210000
END:VEVENT
END:VCALENDAR