BEGIN:VCALENDAR
VERSION:2.0
PRODID:mnr.ch
METHOD:PUBLISH
BEGIN:VEVENT
CLASS:PUBLIC
UID:792
DTSTAMP:20260421T101606
LOCATION:34, Zionshalle, Ringwiesenstrasse 15, 8600, Dübendorf, CH
SUMMARY:Gebetsstunde mit Abendmahl
DESCRIPTION:Philipp Ottenburg\n
DTSTART:20220203T200000
DTEND:20220203T210000
END:VEVENT
END:VCALENDAR