BEGIN:VCALENDAR
VERSION:2.0
PRODID:mnr.ch
METHOD:PUBLISH
BEGIN:VEVENT
CLASS:PUBLIC
UID:6545
DTSTAMP:20260426T030507
LOCATION:185, Gemeinde Freie Christen, Adalbert-Stifter-Strasse 21, 74321, Bietigheim-Bissingen, DE
SUMMARY:Gottesdienst
DESCRIPTION:Reinhold Federolf\n
DTSTART:20260426T093000
DTEND:20260426T113000
END:VEVENT
END:VCALENDAR