BEGIN:VCALENDAR
VERSION:2.0
PRODID:mnr.ch
METHOD:PUBLISH
BEGIN:VEVENT
CLASS:PUBLIC
UID:604
DTSTAMP:20260420T173845
LOCATION:84, Christliches Gästezentrum Westerwald, Heimstrasse 49, 56479, Rehe, DE
SUMMARY:MNR-Jugendkonferenz: «Glaube auf dem Prüfstand - Lebenstipps aus dem Jakobusbrief»
DESCRIPTION:Michael Leister\nFür junge Leute von 16-35 Jahren
DTSTART:20210828T100000
DTEND:20210828T113000
END:VEVENT
END:VCALENDAR