BEGIN:VCALENDAR
VERSION:2.0
PRODID:mnr.ch
METHOD:PUBLISH
BEGIN:VEVENT
CLASS:PUBLIC
UID:5580
DTSTAMP:20260419T160145
LOCATION:96, Freie Baptisten Gemeinde, Weilerstrasse 65, 72172, Sulz am Neckar, DE
SUMMARY:Versammlung
DESCRIPTION:Thomas Lieth\n
DTSTART:20260422T193000
DTEND:20260422T210000
END:VEVENT
END:VCALENDAR