BEGIN:VCALENDAR
VERSION:2.0
PRODID:mnr.ch
METHOD:PUBLISH
BEGIN:VEVENT
CLASS:PUBLIC
UID:5579
DTSTAMP:20260419T160111
LOCATION:160, Freie Bibelgemeinde Mannheim, Pumpwerkstr. 70, 68169, Mannheim, DE
SUMMARY:Versammlung
DESCRIPTION:Thomas Lieth\n
DTSTART:20260421T200000
DTEND:20260421T213000
END:VEVENT
END:VCALENDAR