BEGIN:VCALENDAR
VERSION:2.0
PRODID:mnr.ch
METHOD:PUBLISH
BEGIN:VEVENT
CLASS:PUBLIC
UID:5578
DTSTAMP:20260419T160457
LOCATION:28, Mennoniten-Gemeinde Lienen e.V., Industriestrasse 22, 49536, Lienen, DE
SUMMARY:Versammlung
DESCRIPTION:Thomas Lieth\n
DTSTART:20260419T100000
DTEND:20260419T113000
END:VEVENT
END:VCALENDAR