BEGIN:VCALENDAR
VERSION:2.0
PRODID:mnr.ch
METHOD:PUBLISH
BEGIN:VEVENT
CLASS:PUBLIC
UID:5577
DTSTAMP:20260419T160419
LOCATION:104, Mennoniten Gemeinde Beelen, Vennort 5f, 48361, Beelen, DE
SUMMARY:Versammlung
DESCRIPTION:Thomas Lieth\n
DTSTART:20260418T170000
DTEND:20260418T193000
END:VEVENT
END:VCALENDAR