BEGIN:VCALENDAR
VERSION:2.0
PRODID:mnr.ch
METHOD:PUBLISH
BEGIN:VEVENT
CLASS:PUBLIC
UID:5576
DTSTAMP:20260419T160630
LOCATION:179, Christen-Gemeinde Delbrück e.V., Jüdendamm 2, 33129, Delbrück, DE
SUMMARY:Versammlung
DESCRIPTION:Thomas Lieth\n
DTSTART:20260417T193000
DTEND:20260417T210000
END:VEVENT
END:VCALENDAR