BEGIN:VCALENDAR
VERSION:2.0
PRODID:mnr.ch
METHOD:PUBLISH
BEGIN:VEVENT
CLASS:PUBLIC
UID:5575
DTSTAMP:20260419T155409
LOCATION:166, Bibelgemeinde NordRhön, Mackenzeller Str. 12, 36088, Hünfeld, DE
SUMMARY:Versammlung
DESCRIPTION:Thomas Lieth\n
DTSTART:20260416T193000
DTEND:20260416T210000
END:VEVENT
END:VCALENDAR