BEGIN:VCALENDAR
VERSION:2.0
PRODID:mnr.ch
METHOD:PUBLISH
BEGIN:VEVENT
CLASS:PUBLIC
UID:5574
DTSTAMP:20260419T155333
LOCATION:35, Freie ev. Brüdergemeinde Mosbach-Neckarelz, Bahnhofstrasse 14, 74821, Mosbach-Neckarelz, DE
SUMMARY:Versammlung
DESCRIPTION:Thomas Lieth\n
DTSTART:20260415T193000
DTEND:20260415T210000
END:VEVENT
END:VCALENDAR