BEGIN:VCALENDAR
VERSION:2.0
PRODID:mnr.ch
METHOD:PUBLISH
BEGIN:VEVENT
CLASS:PUBLIC
UID:5573
DTSTAMP:20260419T160105
LOCATION:22, Ankergemeinde Kehl, Oberdorfstrasse 35a, 77694, Kehl, DE
SUMMARY:Versammlung
DESCRIPTION:Thomas Lieth\n
DTSTART:20260414T193000
DTEND:20260414T210000
END:VEVENT
END:VCALENDAR