BEGIN:VCALENDAR
VERSION:2.0
PRODID:mnr.ch
METHOD:PUBLISH
BEGIN:VEVENT
CLASS:PUBLIC
UID:5310
DTSTAMP:20260426T030323
LOCATION:247, Evang. Gemeinde Mitternachtsruf, Furkastrasse 46, 3904, Naters, CH
SUMMARY:Gottesdienst Naters
DESCRIPTION:\n
DTSTART:20260426T144500
DTEND:20260426T161500
END:VEVENT
END:VCALENDAR