BEGIN:VCALENDAR
VERSION:2.0
PRODID:mnr.ch
METHOD:PUBLISH
BEGIN:VEVENT
CLASS:PUBLIC
UID:5190
DTSTAMP:20260421T095908
LOCATION:
SUMMARY:Beth-Shalom Herbstreise
DESCRIPTION:Govert Roos\nINFORMATIONEN & ANMELDUNG
DTSTART:20261012T000000
DTEND:20261021T235959
END:VEVENT
END:VCALENDAR