BEGIN:VCALENDAR
VERSION:2.0
PRODID:mnr.ch
METHOD:PUBLISH
BEGIN:VEVENT
CLASS:PUBLIC
UID:5186
DTSTAMP:20260421T085207
LOCATION:
SUMMARY:Beth-Shalom Frühlingsreise I - Abgesagt
DESCRIPTION:\nINFORMATIONEN & ANMELDUNG
DTSTART:20260316T000000
DTEND:20260326T235959
END:VEVENT
END:VCALENDAR