BEGIN:VCALENDAR
VERSION:2.0
PRODID:mnr.ch
METHOD:PUBLISH
BEGIN:VEVENT
CLASS:PUBLIC
UID:3946
DTSTAMP:20260422T064919
LOCATION:214, Versammlungsraum, Furkastrasse 26, 3904, Naters (bei Brig), CH
SUMMARY:Bibel/Gebetsstunde Naters (bei Brig)
DESCRIPTION:\n
DTSTART:20241031T200000
DTEND:20241031T210000
END:VEVENT
END:VCALENDAR