BEGIN:VCALENDAR
VERSION:2.0
PRODID:mnr.ch
METHOD:PUBLISH
BEGIN:VEVENT
CLASS:PUBLIC
UID:3691
DTSTAMP:20260426T030203
LOCATION:75, Maranatha-Haus, Zionsweg 1, 8600, Dübendorf, CH
SUMMARY:GBSM
DESCRIPTION:Thomas Lieth, Samuel Rindlisbacher\n
DTSTART:20260426T120000
DTEND:20260426T180000
END:VEVENT
END:VCALENDAR