BEGIN:VCALENDAR
VERSION:2.0
PRODID:mnr.ch
METHOD:PUBLISH
BEGIN:VEVENT
CLASS:PUBLIC
UID:3478
DTSTAMP:20260426T025700
LOCATION:34, Zionshalle, Ringwiesenstrasse 15, 8600, Dübendorf, CH
SUMMARY:Gottesdienst Zionshalle
DESCRIPTION:Thomas Lieth\n
DTSTART:20260426T100000
DTEND:20260426T113000
END:VEVENT
END:VCALENDAR