BEGIN:VCALENDAR
VERSION:2.0
PRODID:mnr.ch
METHOD:PUBLISH
BEGIN:VEVENT
CLASS:PUBLIC
UID:1424
DTSTAMP:20260422T031913
LOCATION:76, Kreuz Bern Modern City Hotel, Saal Hodler, Zeughausgasse 41, 3011, Bern, CH
SUMMARY:Bibel- und Gebetsstunde Bern
DESCRIPTION:Nathanael Winkler\n
DTSTART:20220601T143000
DTEND:20220601T153000
END:VEVENT
END:VCALENDAR