BEGIN:VCALENDAR
VERSION:2.0
PRODID:mnr.ch
METHOD:PUBLISH
BEGIN:VEVENT
CLASS:PUBLIC
UID:1408
DTSTAMP:20260420T235324
LOCATION:75, Maranatha-Haus, Zionsweg 1, 8600, Dübendorf, CH
SUMMARY:23plus
DESCRIPTION:Philipp Ottenburg\n
DTSTART:20220514T190000
DTEND:20220514T230000
END:VEVENT
END:VCALENDAR